BEGIN:VCALENDAR
VERSION:2.0
PRODID:-//Hayes Theatre Company - ECPv4.9.4//NONSGML v1.0//EN
CALSCALE:GREGORIAN
METHOD:PUBLISH
X-WR-CALNAME:Hayes Theatre Company
X-ORIGINAL-URL:https://hayestheatre.com.au
X-WR-CALDESC:Events for Hayes Theatre Company
BEGIN:VTIMEZONE
TZID:"Australia/Sydney"
BEGIN:STANDARD
TZOFFSETFROM:+1100
TZOFFSETTO:+1000
TZNAME:AEST
DTSTART:20200404T160000
END:STANDARD
BEGIN:DAYLIGHT
TZOFFSETFROM:+1000
TZOFFSETTO:+1100
TZNAME:AEDT
DTSTART:20201003T160000
END:DAYLIGHT
END:VTIMEZONE
BEGIN:VEVENT
DTSTART;TZID="Australia/Sydney":20200402T193000
DTEND;TZID="Australia/Sydney":20200402T193000
DTSTAMP:20200226T122542
CREATED:20191004T053110Z
LAST-MODIFIED:20191004T053110Z
UID:2469-1585855800-1585855800@hayestheatre.com.au
SUMMARY:The Life of Us
DESCRIPTION:Starring Ben Bennett\, Ashleigh Taylor\, Toby Francis & Pippa Grandison \n
URL:https://hayestheatre.com.au/events-calendar/the-life-of-us-5/
CATEGORIES:show
END:VEVENT
END:VCALENDAR